Workbook

Sheet Summary
A2: INVOICE SUMMARY
A4: Invoice | B4: Customer | C4: Issue date | D4: Due date | E4: Subtotal | F4: Tax (if applicable) | G4: Total | H4: Status | I4: Notes
A5: =IF('Invoice 1'!B6="","",'Invoice 1'!B6) | B5: =IF('Invoice 1'!B6="","",'Invoice 1'!B10) | C5: =IF('Invoice 1'!B6="","",'Invoice 1'!B7) | D5: =IF('Invoice 1'!B6="","",'Invoice 1'!B8) | E5: =IF('Invoice 1'!B6="","",'Invoice 1'!E29) | F5: =IF('Invoice 1'!B6="","",'Invoice 1'!E30) | G5: =IF('Invoice 1'!B6="","",'Invoice 1'!E31)
A6: =IF('Invoice 2'!B6="","",'Invoice 2'!B6) | B6: =IF('Invoice 2'!B6="","",'Invoice 2'!B10) | C6: =IF('Invoice 2'!B6="","",'Invoice 2'!B7) | D6: =IF('Invoice 2'!B6="","",'Invoice 2'!B8) | E6: =IF('Invoice 2'!B6="","",'Invoice 2'!E29) | F6: =IF('Invoice 2'!B6="","",'Invoice 2'!E30) | G6: =IF('Invoice 2'!B6="","",'Invoice 2'!E31)
A7: =IF('Invoice 3'!B6="","",'Invoice 3'!B6) | B7: =IF('Invoice 3'!B6="","",'Invoice 3'!B10) | C7: =IF('Invoice 3'!B6="","",'Invoice 3'!B7) | D7: =IF('Invoice 3'!B6="","",'Invoice 3'!B8) | E7: =IF('Invoice 3'!B6="","",'Invoice 3'!E29) | F7: =IF('Invoice 3'!B6="","",'Invoice 3'!E30) | G7: =IF('Invoice 3'!B6="","",'Invoice 3'!E31)
A9: Workbook total | G9: =SUM(G5:G7)
A11: Duplicate an invoice tab when needed, then add a matching linked row to this summary. Status and notes are user-entered.

Sheet Invoice 1
A2: INVOICE
A3: One invoice in a multi-invoice workbook
A6: Invoice number
A7: Issue date
A8: Due date
A9: From
A10: Bill to
A11: Payment terms
A15: Description | B15: Reference | C15: Quantity | D15: Rate | E15: Amount
E16: =C16*D16
E17: =C17*D17
E18: =C18*D18
E19: =C19*D19
E20: =C20*D20
E21: =C21*D21
E22: =C22*D22
E23: =C23*D23
E24: =C24*D24
E25: =C25*D25
E26: =C26*D26
E27: =C27*D27
D29: Subtotal | E29: =SUM(E16:E27)
D30: Tax (if applicable)
D31: Total | E31: =E29+E30
A33: Payment details
A34: Notes
A36: Enter a tax amount in the Tax (if applicable) cell, or leave it blank. The total adds this amount to the subtotal.
A38: Free template from invosmith.com. Check every amount and export a PDF before sending.

Sheet Invoice 2
A2: INVOICE
A3: One invoice in a multi-invoice workbook
A6: Invoice number
A7: Issue date
A8: Due date
A9: From
A10: Bill to
A11: Payment terms
A15: Description | B15: Reference | C15: Quantity | D15: Rate | E15: Amount
E16: =C16*D16
E17: =C17*D17
E18: =C18*D18
E19: =C19*D19
E20: =C20*D20
E21: =C21*D21
E22: =C22*D22
E23: =C23*D23
E24: =C24*D24
E25: =C25*D25
E26: =C26*D26
E27: =C27*D27
D29: Subtotal | E29: =SUM(E16:E27)
D30: Tax (if applicable)
D31: Total | E31: =E29+E30
A33: Payment details
A34: Notes
A36: Enter a tax amount in the Tax (if applicable) cell, or leave it blank. The total adds this amount to the subtotal.
A38: Free template from invosmith.com. Check every amount and export a PDF before sending.

Sheet Invoice 3
A2: INVOICE
A3: One invoice in a multi-invoice workbook
A6: Invoice number
A7: Issue date
A8: Due date
A9: From
A10: Bill to
A11: Payment terms
A15: Description | B15: Reference | C15: Quantity | D15: Rate | E15: Amount
E16: =C16*D16
E17: =C17*D17
E18: =C18*D18
E19: =C19*D19
E20: =C20*D20
E21: =C21*D21
E22: =C22*D22
E23: =C23*D23
E24: =C24*D24
E25: =C25*D25
E26: =C26*D26
E27: =C27*D27
D29: Subtotal | E29: =SUM(E16:E27)
D30: Tax (if applicable)
D31: Total | E31: =E29+E30
A33: Payment details
A34: Notes
A36: Enter a tax amount in the Tax (if applicable) cell, or leave it blank. The total adds this amount to the subtotal.
A38: Free template from invosmith.com. Check every amount and export a PDF before sending.
